BEGIN:VCALENDAR
VERSION:2.0
PRODID:-//Contratero//ES
CALSCALE:GREGORIAN
METHOD:PUBLISH
BEGIN:VEVENT
UID:75/2023  Plataforma digital Mercados@contratero.es
DTSTAMP:20260421T040214Z
DTSTART:20231122T235959
DTEND:20231123T005959
SUMMARY:Cierre: Contrato servicio de para la creación y puesta en 
DESCRIPTION:Contrato servicio de para la creación y puesta en marcha del Mercado Rural de Beturia mediante un software.\\n\\nOrganismo: Presidencia de la Mancomunidad de Municipios Beturia\\n\\nVer en Contratero: https://contratero.es/contracts/75/2023  Plataforma digital Mercados
URL:https://contratero.es/contracts/75/2023  Plataforma digital Mercados
STATUS:CONFIRMED
BEGIN:VALARM
TRIGGER:-P1D
ACTION:DISPLAY
DESCRIPTION:Recordatorio: Contrato servicio de para la c
END:VALARM
END:VEVENT
END:VCALENDAR